BEGIN:VCALENDAR
PRODID:-//eluceo/ical//2.0/EN
VERSION:2.0
CALSCALE:GREGORIAN
BEGIN:VEVENT
UID:71c01bc4552760e6c68f07be510ae804
DTSTAMP:20260423T024439Z
SUMMARY:It's Not my Kid: Issues that Need to be Recognized in our Teen Cult
 ure
DESCRIPTION:Jewish Federation of West-Central New Jersey\nCommunity Calenda
 r\nhttps://jfedwcnj.org/calendar/its-not-my-kid-issues-that-need-to-be-rec
 ognized-in-our-teen-culture-1451577178\n\nFrom stress\, anxiety and low se
 lf-esteem to sexting\, cheating and heroin teens face numerous complex iss
 ues. It is easy to assume that it is "not my teen" facing these or other a
 dolescent challenges. However\, the internet\, social media and their frie
 nds\, have greater influence over teens' life than any parent is willing t
 o acknowledge. Temple Har Shalom\, in Warren\, welcomes Coach Randy Nathan
  to present a candid dialogue addressing the core issues teens are facing 
 today. Coach Randy will...
DTSTART;TZID=America/New_York:20160110T090000
DTEND;TZID=America/New_York:20160110T110000
END:VEVENT
END:VCALENDAR
