BEGIN:VCALENDAR
PRODID:-//eluceo/ical//2.0/EN
VERSION:2.0
CALSCALE:GREGORIAN
BEGIN:VEVENT
UID:c5d8820b22db2d2ea7e155d6db21add6
DTSTAMP:20260420T225116Z
SUMMARY:It Could Happen Here
DESCRIPTION:Jewish Federation of West-Central New Jersey\nCommunity Calenda
 r\nhttps://jfedwcnj.org/calendar/it-could-happen-here\n\nBecause Antisemit
 ism didn't end with Haman...IIt Could Happen Here: Why America is Tipping
  from Hate to the Unthinkable - And How We Can Stop It\n\n \n\nMarch 7\, 
 2023\n\n7pm\n\n \n\nIn person with Jonathan Greenblatt Temple Beth-El Hil
 lsborough\n\n67 US Hwy 206 \n\nHillsborough\, NJ \n\nor via Zoom\n\nFree a
 nd open to the Community\n\n 
DTSTART;TZID=America/New_York:20230307T190000
DTEND;TZID=America/New_York:20230307T210000
END:VEVENT
END:VCALENDAR
