BEGIN:VCALENDAR
PRODID:-//eluceo/ical//2.0/EN
VERSION:2.0
CALSCALE:GREGORIAN
BEGIN:VEVENT
UID:5c4242473873b6243d5dd88fe7c9b990
DTSTAMP:20260421T113600Z
SUMMARY:Israel's Moment: Support and Opposition to Establishing the Jewish 
 State
DESCRIPTION:Jewish Federation of West-Central New Jersey\nCommunity Calenda
 r\nhttps://jfedwcnj.org/calendar/israels-moment-support-and-opposition-to-
 establishing-the-jewish-state-1643380236\n\nJeffrey C. Herf\, Distinguishe
 d University Professor at the University of Maryland\, will speak about hi
 s new book\, "Israel's Moment: International Support for and Opposition to
  Establishing the Jewish State\,1945-1949\," which draws on archival docum
 ents and the public record to recall this contested past. Free and open to
  the public\, advance registration is required for this virtual talk on th
 e Bildner Center website at: http://BildnerCenter.Rutgers.edu
DTSTART;TZID=America/New_York:20220307T190000
DTEND;TZID=America/New_York:20220307T200000
END:VEVENT
END:VCALENDAR
