BEGIN:VCALENDAR
PRODID:-//eluceo/ical//2.0/EN
VERSION:2.0
CALSCALE:GREGORIAN
BEGIN:VEVENT
UID:6b3f9de42643fd38d0a8ec11b9461457
DTSTAMP:20260421T053544Z
SUMMARY:Israel's Edge- The Story of the IDF'S Most Elite Unit- Talpiot
DESCRIPTION:Jewish Federation of West-Central New Jersey\nCommunity Calenda
 r\nhttps://jfedwcnj.org/calendar/israels-edge-the-story-of-the-idfs-most-e
 lite-unit--talpiot\n\nIsrael's Edge is about Talpiot\, a special unit of t
 he Israel Defense Forces considered to be the most elite in the army. Inst
 ead of learning to fight\, the few soldiers selected each year 'learn how
  to think\,' enlisting for at least ten years to design weapons that will 
 protect Israel for generations to come.\n\nJason Gerwitz is an Executive P
 roducer at the business news network CNBC. He has covered Israel for CNBC 
 and NBC news.
DTSTART;TZID=America/New_York:20170112T190000
DTEND;TZID=America/New_York:20170112T210000
END:VEVENT
END:VCALENDAR
