BEGIN:VCALENDAR
PRODID:-//eluceo/ical//2.0/EN
VERSION:2.0
CALSCALE:GREGORIAN
BEGIN:VEVENT
UID:510e9c736a4bd012e2eee28882d61f9c
DTSTAMP:20260424T092529Z
SUMMARY:Israeli Folk Dancing
DESCRIPTION:Jewish Federation of West-Central New Jersey\nCommunity Calenda
 r\nhttps://jfedwcnj.org/calendar/israelifolkdancing\n\nOur Israeli Folk Da
 nce program has been going strong over 13 years. It's more fun than the gy
 m\, more spiritual than Zumba\, and cheaper than a night at the movies. G
 et moving\, get happy!\n\n \n\nBeginners always welcome!!!  \n\nCost: $
 10 at the door (First session FREE for newcomers.)\n\nYou will lose yourse
 lf in the rhythms of the dance and the tuneful music and spirituality of i
 t and feel great as your endorphins kick in! Wouldn't it be nice to f
 eel happ...
DTSTART;TZID=America/New_York:20220407T193000
DTEND;TZID=America/New_York:20220407T210000
END:VEVENT
END:VCALENDAR
