BEGIN:VCALENDAR
PRODID:-//eluceo/ical//2.0/EN
VERSION:2.0
CALSCALE:GREGORIAN
BEGIN:VEVENT
UID:f61a9ae6893088c728c154c664fb0df3
DTSTAMP:20260421T145454Z
SUMMARY:Israeli Day Parade
DESCRIPTION:Jewish Federation of West-Central New Jersey\nCommunity Calenda
 r\nhttps://jfedwcnj.org/calendar/israeli-day-parade\n\nIsraeli Day Parade\
 n\nThe parade will go up Manhattan's Fifth Avenue from 57th to 74th Stree
 ts\n\nCome show your support of Israel!
DTSTART;TZID=America/New_York:20200607T000000
DTEND;TZID=America/New_York:20200607T000000
END:VEVENT
END:VCALENDAR
