BEGIN:VCALENDAR
PRODID:-//eluceo/ical//2.0/EN
VERSION:2.0
CALSCALE:GREGORIAN
BEGIN:VEVENT
UID:627812a1ddea02331d0ead1863b73408
DTSTAMP:20260421T080902Z
SUMMARY:Israeli Cooking
DESCRIPTION:Jewish Federation of West-Central New Jersey\nCommunity Calenda
 r\nhttps://jfedwcnj.org/calendar/israeli-cooking\n\nDiscover the Flavors o
 f Israel: Monthly Cooking Experience\n\n\nJCC Member Rate: $20.00/Class\nC
 ommunity Member Rate: $25.00/Class\n\n\nJoin us for a fun and flavorful ev
 ening as we gather with friends to explore the rich and diverse world of I
 sraeli cuisine! Each month\, we’ll prepare a new and exciting dish\, bri
 nging the tastes and traditions of Israel into our own kitchens.\n\nThis M
 ay\, get ready to roll up your sleeves and create Arayes (pita stuffed wi
 th meat)\, tahini\, and salad—th...
DTSTART;TZID=America/New_York:20250520T183000
DTEND;TZID=America/New_York:20250520T203000
END:VEVENT
END:VCALENDAR
