BEGIN:VCALENDAR
PRODID:-//eluceo/ical//2.0/EN
VERSION:2.0
CALSCALE:GREGORIAN
BEGIN:VEVENT
UID:dc84b11bd8e1f1bb780817cf51c65a72
DTSTAMP:20260421T222457Z
SUMMARY:Israeli Art Comes to Central New Jersey
DESCRIPTION:Jewish Federation of West-Central New Jersey\nCommunity Calenda
 r\nhttps://jfedwcnj.org/calendar/israeli-art-comes-to-central-new-jersey-1
 505189290\n\nTemple B'nai Shalom\, in conjunction with Jerusalem-based Saf
 rai Fine Art Gallery\, will present a unique exhibition and sale of "Young
  and Old Masters of Israeli Art" for four days this fall: November 2nd thr
 ough 5th. More than 1\,500 works of art\, including original oil paintings
 \, watercolors\, lithographs and etchings by Israeli artists\, will be ava
 ilable to view and purchase. The exhibition & sale will open on Thursday n
 ight\, November 2nd\, from 7pm to 9pm\, continuing on Friday\, November 3r
 d f...
DTSTART;TZID=America/New_York:20171102T190000
DTEND;TZID=America/New_York:20171105T160000
END:VEVENT
END:VCALENDAR
