BEGIN:VCALENDAR
PRODID:-//eluceo/ical//2.0/EN
VERSION:2.0
CALSCALE:GREGORIAN
BEGIN:VEVENT
UID:a2ad1d9f569c432b83f7a49b41240dd1
DTSTAMP:20260422T084431Z
SUMMARY:Israel Mission Meeting
DESCRIPTION:Jewish Federation of West-Central New Jersey\nCommunity Calenda
 r\nhttps://jfedwcnj.org/calendar/israel-mission-meeting-1466793802\n\nJoin
  us for an informational meeting for the Israel Mission taking place Octob
 er 29th - November 7th.\n\nFor more details on the trip\, please click her
 e!
DTSTART;TZID=America/New_York:20160707T190000
DTEND;TZID=America/New_York:20160707T203000
END:VEVENT
END:VCALENDAR
