BEGIN:VCALENDAR
PRODID:-//eluceo/ical//2.0/EN
VERSION:2.0
CALSCALE:GREGORIAN
BEGIN:VEVENT
UID:c64d8b2b86882f1bbe2e3448f878e1ea
DTSTAMP:20260424T225514Z
SUMMARY:Israel: Bridging the Gap
DESCRIPTION:Jewish Federation of West-Central New Jersey\nCommunity Calenda
 r\nhttps://jfedwcnj.org/calendar/israel-bridging-the-gap\n\nNo fee for mem
 bers. Suggested donation for non-members: $12 including bagel and coffee\n
 \nRabbi Marisa James is currently the Senior Organizer for T'ruah: The Rab
 binic Call for Human Rights. During her five years living in Jerusalem\, R
 abbi James worked for Encounter Programs\, facilitating respectful dialogu
 e regarding the Israeli-Palestinian conflict among rabbinic and cantorial 
 students and Jewish leaders during trips to the West Bank. With Israel so 
 often in the news\, many of us wonder if ...
DTSTART;TZID=America/New_York:20161204T100000
DTEND;TZID=America/New_York:20161204T120000
END:VEVENT
END:VCALENDAR
