BEGIN:VCALENDAR
PRODID:-//eluceo/ical//2.0/EN
VERSION:2.0
CALSCALE:GREGORIAN
BEGIN:VEVENT
UID:e5e9018dc4739220caf783d421566614
DTSTAMP:20260422T131434Z
SUMMARY:Israel\, Antisemitism &  Social Media\, an Important Conversation
DESCRIPTION:Jewish Federation of West-Central New Jersey\nCommunity Calenda
 r\nhttps://jfedwcnj.org/calendar/israel-antisemitism-social-media-an-impor
 tant-conversation\n\nIsrael\, Antisemitism &  Social Media\, an Important
  Conversation with Teens and Parents \n\n \n\nGoing to college is very e
 xciting. For Jewish students it can also be challenging because of anti-I
 srael and Antisemitic rhetoric on campus. This program prepares students a
 nd parents to respond to misinformation and false statements common on cam
 puses across the country. Through a series of short videos that put Israel
  and Antisemitism into context followed by round table discussions\, we wi
 ll ...
DTSTART;TZID=America/New_York:20211121T190000
DTEND;TZID=America/New_York:20211121T210000
END:VEVENT
END:VCALENDAR
