BEGIN:VCALENDAR
PRODID:-//eluceo/ical//2.0/EN
VERSION:2.0
CALSCALE:GREGORIAN
BEGIN:VEVENT
UID:66f4bf9baa0158fc950764ac4a025cba
DTSTAMP:20260422T175244Z
SUMMARY:Iron Chef and Tricky Tray Event
DESCRIPTION:Jewish Federation of West-Central New Jersey\nCommunity Calenda
 r\nhttps://jfedwcnj.org/calendar/iron-chef-and-tricky-tray-event-148367245
 1\n\nFebruary 25th \, An evening of great food\, great drinks\, great frie
 nds and great prizes.  Some of the prizes are:\nAMAZON ECHO\n2 JETS TICKET
 S\nVERA BRADLEY OVERNIGHT BAG\nA BEAUTIFUL LOCAL HANDMADE WOODEN TABLE\nFI
 SHING TRIP FOR 3 IN NJ\nand so much more!\n\nDON'T MISS IT!
DTSTART;TZID=America/New_York:20170225T190000
DTEND;TZID=America/New_York:20170225T230000
END:VEVENT
END:VCALENDAR
