BEGIN:VCALENDAR
PRODID:-//eluceo/ical//2.0/EN
VERSION:2.0
CALSCALE:GREGORIAN
BEGIN:VEVENT
UID:a2c54dd301a7e84815e73261a16b6647
DTSTAMP:20260421T043119Z
SUMMARY:Irma Horowitz Spring Virtual Film Festival: As Seen Through These E
 yes
DESCRIPTION:Jewish Federation of West-Central New Jersey\nCommunity Calenda
 r\nhttps://jfedwcnj.org/calendar/irma-horowitz-spring-virtual-film-festiva
 l-as-seen-through-these-eyes-1619728905\n\nIrma Horowitz Spring Virtual Fi
 lm Festival Wednesday May 12\, 7 PM As Seen Through These EyesThese artist
 s took their fate into their own hands to make a compelling statement abou
 t the human spirit\, enduring against unimaginable odds. Support the Film 
 Series by becoming a Patron • $10/household/film.
DTSTART;TZID=America/New_York:20210512T190000
DTEND;TZID=America/New_York:20210512T210000
END:VEVENT
END:VCALENDAR
