BEGIN:VCALENDAR
PRODID:-//eluceo/ical//2.0/EN
VERSION:2.0
CALSCALE:GREGORIAN
BEGIN:VEVENT
UID:b09f71b66d443c9c85fadd0d5ee9b539
DTSTAMP:20260423T020011Z
SUMMARY:Irma Horowitz Short Israeli Film Series Featuring Falafel & Films 
DESCRIPTION:Jewish Federation of West-Central New Jersey\nCommunity Calenda
 r\nhttps://jfedwcnj.org/calendar/irma-horowitz-short-israeli-film-series-f
 eaturing-falafel--films-1456429143\n\nIrma Horowitz Short Israeli Film Ser
 ies Featuring Falafel &amp\; Films  Presented by the Ma&rsquo\;Aleh School
  of Television and the Arts in Jerusalem\n\nShira- Shira\, the mother of f
 ive children\, lives in a religious community. Her husband&rsquo\;s expect
 ation is that she will\ncontinue to bring children into the world. Shira b
 egins to collapse under the stress of her responsibilities. She tries\nto 
 take matters into her own hands.\n\nA Maise- The warm relationship between
  Mendel\, an elderly Holocaust...
DTSTART;TZID=America/New_York:20160310T183000
DTEND;TZID=America/New_York:20160310T210000
END:VEVENT
END:VCALENDAR
