BEGIN:VCALENDAR
PRODID:-//eluceo/ical//2.0/EN
VERSION:2.0
CALSCALE:GREGORIAN
BEGIN:VEVENT
UID:af6bfcc5eee43e72868a31e8ba45153d
DTSTAMP:20260421T204856Z
SUMMARY:Irma Horowitz Film Series - Redemption
DESCRIPTION:Jewish Federation of West-Central New Jersey\nCommunity Calenda
 r\nhttps://jfedwcnj.org/calendar/irma-horowitz-film-series-redemption\n\nI
 rma Horowitz Film Series featuring Falafel and Film\n\nRedemption\n\nIsrae
 l\, 2018 - Drama - 108 minutes\n\nHebrew (with English subtitles)\n\nMenac
 hem\, a former frontman for a rock band\, is now religious\, and a father 
 to a six-year-old. When his daughter is diagnosed with cancer\, he must fi
 nd a creative solution to fund the expensive treatments. He reunites his b
 and for one last tour. The journey to save his daughter exposes old wounds
  and allows him to reconnect with his secular past. Menac...
DTSTART;TZID=America/New_York:20200326T183000
DTEND;TZID=America/New_York:20200326T210000
END:VEVENT
END:VCALENDAR
