BEGIN:VCALENDAR
PRODID:-//eluceo/ical//2.0/EN
VERSION:2.0
CALSCALE:GREGORIAN
BEGIN:VEVENT
UID:93003452f79aaaf3b2e43b7c704e46b3
DTSTAMP:20260422T010353Z
SUMMARY:Irma Horowitz Film Series Havanna Curveball
DESCRIPTION:Jewish Federation of West-Central New Jersey\nCommunity Calenda
 r\nhttps://jfedwcnj.org/calendar/irma-horowitz-film-series-havanna-curveba
 ll-1444224570\n\nThe two year journey of one boy’s desire to understand 
 his family’s history while navigating the gap between\nyouthful ideals a
 nd the complex messy reality of the adult world. A Skype discussion and Q 
 & A with the filmmaker\nwill follow the screening. From Award-winning film
 making duo\, Marcia Jarmel (“Return of Sarah’s Daughters”) and Ken S
 chneider (“Regret to Inform”) comes “Havana Curveball”. The docume
 ntary tells the story of Mica\, a classic idealistic Jewish teen who at...
DTSTART;TZID=America/New_York:20160114T183000
DTEND;TZID=America/New_York:20160114T203000
END:VEVENT
END:VCALENDAR
