BEGIN:VCALENDAR
PRODID:-//eluceo/ical//2.0/EN
VERSION:2.0
CALSCALE:GREGORIAN
BEGIN:VEVENT
UID:7b92ad6563aa8b61d6a9e26a20866c52
DTSTAMP:20260421T163046Z
SUMMARY:Irma Horowitz Film Series Featuring Falafel & Israeli Short Films
DESCRIPTION:Jewish Federation of West-Central New Jersey\nCommunity Calenda
 r\nhttps://jfedwcnj.org/calendar/irma-horowitz-film-series-featuring-falaf
 el-israeli-short-films\n\nFeaturing Falafel & Israeli Short Films Films by
  Students of the Ma’aleh School of Television Film and the Arts in Jerus
 alem​\n\nFee: $15/person includes falafel dinner\n\nNewspapers & Flowers
  \n\nCarmel is looking for love\, but is tired of being judged by appearan
 ce and dress code. By the time she meets Miki\, the newspaper boy\, she is
  willing to hide certain details about herself in order to put him to the 
 test. Can Miki pass Carmel’s defenses?\n\n11 Minutes \n\nA military ambu
 lance is...
DTSTART;TZID=America/New_York:20180312T183000
DTEND;TZID=America/New_York:20180312T203000
END:VEVENT
END:VCALENDAR
