BEGIN:VCALENDAR
PRODID:-//eluceo/ical//2.0/EN
VERSION:2.0
CALSCALE:GREGORIAN
BEGIN:VEVENT
UID:ad86b3dbeb2e90acd06fcf3e782ba8ad
DTSTAMP:20260421T071414Z
SUMMARY:Irma Horowitz Film Series Featuring Falafel and Short Films
DESCRIPTION:Jewish Federation of West-Central New Jersey\nCommunity Calenda
 r\nhttps://jfedwcnj.org/calendar/irma-horowitz-film-series-featuring-falaf
 el-and-short-films\n\nIrma Horowitz Film Series \n\nFeaturing Falafel and
  Short Films\n\nFilms by Students of Ma'aleh School of Television Film and
  the Arts in Jerusalem\n\nFee: $18/Person includes falafel dinner
DTSTART;TZID=America/New_York:20200227T183000
DTEND;TZID=America/New_York:20200227T210000
END:VEVENT
END:VCALENDAR
