BEGIN:VCALENDAR
PRODID:-//eluceo/ical//2.0/EN
VERSION:2.0
CALSCALE:GREGORIAN
BEGIN:VEVENT
UID:54bb3c2f543e5268916119d1513dde29
DTSTAMP:20260421T202620Z
SUMMARY:Irma Horowitz Film Series
DESCRIPTION:Jewish Federation of West-Central New Jersey\nCommunity Calenda
 r\nhttps://jfedwcnj.org/calendar/irma-horowitz-film-series-father-bringing
 -the-wind\n\nFeaturing Falafel & Israeli Short Films\, Presented by Ma'al
 eh School of Television Film and the Arts in Jerusalem\n\n$12/person adva
 nce\, $15/event day (includes falafel dinner)\n\nFather (Bringing the Wind
 ): Eyal returns home from a trip to India. While traveling he has made th
 e decision to become religiously observant. Initially he delays revealing 
 this to his family but soon he can no longer hide it from them. His secula
 r parents are scared and shocked by the change in him.  The transfo...
DTSTART;TZID=America/New_York:20170406T183000
DTEND;TZID=America/New_York:20170406T203000
END:VEVENT
END:VCALENDAR
