BEGIN:VCALENDAR
PRODID:-//eluceo/ical//2.0/EN
VERSION:2.0
CALSCALE:GREGORIAN
BEGIN:VEVENT
UID:3e935e53af5627560a4635b7e766750b
DTSTAMP:20260422T105535Z
SUMMARY:My Name is Sarah
DESCRIPTION:Jewish Federation of West-Central New Jersey\nCommunity Calenda
 r\nhttps://jfedwcnj.org/calendar/irma-horowitz-film-series-My-Name-is-Sara
 h\n\nSara is a a 13 year-old Polish Jew who finds refuge and is taken in b
 y a farmer and his wife. She soon discovers the dark secrets of her employ
 ers' marriage\, compounding the greatest secret she must strive to protect
 \, her true identity.\n\nDiscounted Member : $20.00\n\nFee: $25.00\n\n 
 \n\nINCLUDES FALAFEL DINNER\n\n \n\nRegister Here
DTSTART;TZID=America/New_York:20230517T190000
DTEND;TZID=America/New_York:20230517T210000
END:VEVENT
END:VCALENDAR
