BEGIN:VCALENDAR
PRODID:-//eluceo/ical//2.0/EN
VERSION:2.0
CALSCALE:GREGORIAN
BEGIN:VEVENT
UID:686ace8b91c57ae8d5238397a0e1a690
DTSTAMP:20260423T095450Z
SUMMARY:Irma Horowitz Film Series
DESCRIPTION:Jewish Federation of West-Central New Jersey\nCommunity Calenda
 r\nhttps://jfedwcnj.org/calendar/irma-horowitz-film-series-1538154350\n\nD
 reaming of a Jewish Christmas is an offbeat\, playful celebration of the J
 ewish American songwriters who composed the soundtrack to the holiday seas
 on. In an irony of ironies\, it was Jewish immigrant outsiders - Irving Be
 rlin\, Mel Tormé and many others - who redefined Christmas as a secular a
 nd inclusive cultural phenomenon. Penning such yuletide classics as “Whi
 te Christmas\,” “Let It Snow” and “Rudolph the Red-Nosed Reindeer\
 ,” these artists amplified the spirit of the holidays t...
DTSTART;TZID=America/New_York:20181101T183000
DTEND;TZID=America/New_York:20181101T203000
END:VEVENT
END:VCALENDAR
