BEGIN:VCALENDAR
PRODID:-//eluceo/ical//2.0/EN
VERSION:2.0
CALSCALE:GREGORIAN
BEGIN:VEVENT
UID:09f28459d6326022bc12dda2014bd31d
DTSTAMP:20260422T163717Z
SUMMARY:INTERNATIONAL HOLOCAUST REMEMBRANCE DAY COMMEMORATION GENERATIONS
DESCRIPTION:Jewish Federation of West-Central New Jersey\nCommunity Calenda
 r\nhttps://jfedwcnj.org/calendar/international-holocaust-remembrance-day-c
 ommemoration-generations\n\nJoin us for a live virtual tour from the IWM (
 Imperial War Museum) in\nLondon on the opening day of the exhibit on Holoc
 aust Remembrance Day.\nA new photography exhibition at IWM London will bri
 ng together over 50\ncontemporary portraits of Holocaust survivors and the
 ir families\, shining a light\non the full lives they have lived and our c
 ollective responsibility to cherish their\nstories. In partnership with th
 e Royal Photographic Society (RPS) and Jewish\nNews\, Generations: Portrai
 ts of Hol...
DTSTART;TZID=America/New_York:20220127T130000
DTEND;TZID=America/New_York:20220127T140000
END:VEVENT
END:VCALENDAR
