BEGIN:VCALENDAR
PRODID:-//eluceo/ical//2.0/EN
VERSION:2.0
CALSCALE:GREGORIAN
BEGIN:VEVENT
UID:54d6d70d3c2e2d7b4aef67a36a059a30
DTSTAMP:20260422T010743Z
SUMMARY:Intergenerational Passover Seder
DESCRIPTION:Jewish Federation of West-Central New Jersey\nCommunity Calenda
 r\nhttps://jfedwcnj.org/calendar/intergenerational-passover-seder\n\nJoin 
 the JCC\, our 4's\, and Kindergarten classes for an abbreviated Seder\, fu
 ll of love and great food!\n\nFee: $10/Person
DTSTART;TZID=America/New_York:20200401T120000
DTEND;TZID=America/New_York:20200401T140000
END:VEVENT
END:VCALENDAR
