BEGIN:VCALENDAR
PRODID:-//eluceo/ical//2.0/EN
VERSION:2.0
CALSCALE:GREGORIAN
BEGIN:VEVENT
UID:3ec8f52f73b47ba10fb339a56ef42868
DTSTAMP:20260421T043745Z
SUMMARY:Inspirational Rock Painting
DESCRIPTION:Jewish Federation of West-Central New Jersey\nCommunity Calenda
 r\nhttps://jfedwcnj.org/calendar/inspirational-rock-painting\n\nLift the s
 pirits of someone who needs some joy. Bring the whole family to paint insp
 irational rocks or be an inspiration yourself & raise funds for those in n
 eed.\n\nOpen and free to the community! A part of the Super Week events le
 ading up to Super Sunday\, December 3! Please Register online!
DTSTART;TZID=America/New_York:20171130T180000
DTEND;TZID=America/New_York:20171130T200000
END:VEVENT
END:VCALENDAR
