BEGIN:VCALENDAR
PRODID:-//eluceo/ical//2.0/EN
VERSION:2.0
CALSCALE:GREGORIAN
BEGIN:VEVENT
UID:cf70c09d4eae152af6f9c3980a2798fa
DTSTAMP:20260422T235820Z
SUMMARY:Impact of the 2022 Midterm Elections on the Jewish Community
DESCRIPTION:Jewish Federation of West-Central New Jersey\nCommunity Calenda
 r\nhttps://jfedwcnj.org/calendar/impact-of-the-2022-midterm-elections-on-t
 he-jewish-community\n\nJoin the Jewish Federation of Somerset\, Hunterdon 
 & Warren Counties and the Jewish Community Foundation of Greater Mercer fo
 r an evening with Dr. Benjamin Dworkin discussing the Impact of the 2022 m
 idterm elections on the Jewish Community.
DTSTART;TZID=America/New_York:20230118T190000
DTEND;TZID=America/New_York:20230118T210000
END:VEVENT
END:VCALENDAR
