BEGIN:VCALENDAR
PRODID:-//eluceo/ical//2.0/EN
VERSION:2.0
CALSCALE:GREGORIAN
BEGIN:VEVENT
UID:efa497409cb2fc265143f3ec2385a4d9
DTSTAMP:20260421T144750Z
SUMMARY:Imagine
DESCRIPTION:Jewish Federation of West-Central New Jersey\nCommunity Calenda
 r\nhttps://jfedwcnj.org/calendar/imagine10-1-18\n\nThe Women’s Philanthr
 opy Division of the Jewish Federation of Somerset\, Hunterdon & Warren Cou
 nties is holding our annual fundraising event – Imagine – on Thursday\
 , November 1\, 2018 at Raritan Valley Country Club. This year we are help
 ing Holocaust Survivors in our tri-county area as well as in Israel. Descr
 iptions of our causes\, Jewish Family Service and American Jewish Joint Di
 stribution Committee (JDC) are attached.\n\n \n\n8:30-10:00 Vendor Shoppi
 ng \n\n10:00- 11:30 Fashion Show\,...
DTSTART;TZID=America/New_York:20181101T080000
DTEND;TZID=America/New_York:20181101T120000
END:VEVENT
END:VCALENDAR
