BEGIN:VCALENDAR
PRODID:-//eluceo/ical//2.0/EN
VERSION:2.0
CALSCALE:GREGORIAN
BEGIN:VEVENT
UID:3735a170f6b6145d8677b0ba1f86f55c
DTSTAMP:20260425T115023Z
SUMMARY:Imagine Event
DESCRIPTION:Jewish Federation of West-Central New Jersey\nCommunity Calenda
 r\nhttps://jfedwcnj.org/calendar/imagine-event\n\nThe Jewish Federation of
  Somerset\, Hunterdon & Warren Counties Women’s Philanthropy Division c
 ordially invites you to \n\nImagine \nBenefiting Disable Veterans\n\nBou
 tique Shopping -- 9:00am—10:30am\nProgram & Brunch --10:30am—Noon\n \
 n\nThis event inludes brunch\, the Klezmer band Sruli and Lisa and vendo
 r shopping. This year we are raising money to benefit disabled veterans pr
 ograms here at home and in Israel. \n\nPlease visit www.jfedshaw.org/imag
 ine2015 to learn more on the ev...
DTSTART;TZID=America/New_York:20151027T090000
DTEND;TZID=America/New_York:20151027T120000
END:VEVENT
END:VCALENDAR
