BEGIN:VCALENDAR
PRODID:-//eluceo/ical//2.0/EN
VERSION:2.0
CALSCALE:GREGORIAN
BEGIN:VEVENT
UID:d50f463b07418d84ecc2d63333dcbd3c
DTSTAMP:20260423T044858Z
SUMMARY:Imagine
DESCRIPTION:Jewish Federation of West-Central New Jersey\nCommunity Calenda
 r\nhttps://jfedwcnj.org/calendar/imagine-1551288931\n\nSave the Date! Loca
 tion TBD 
DTSTART;TZID=America/New_York:20191030T080000
DTEND;TZID=America/New_York:20191030T123000
END:VEVENT
END:VCALENDAR
