BEGIN:VCALENDAR
PRODID:-//eluceo/ical//2.0/EN
VERSION:2.0
CALSCALE:GREGORIAN
BEGIN:VEVENT
UID:2ab28be7baed7d869e8b3289c2432a04
DTSTAMP:20260422T005047Z
SUMMARY:IDF Musical Ensemble in Concert
DESCRIPTION:Jewish Federation of West-Central New Jersey\nCommunity Calenda
 r\nhttps://jfedwcnj.org/calendar/idf-musical-ensemble-in-concert-144590700
 4\n\nEnjoy memorable performances of popular and traditional Israeli songs
 . \nIn celebration of Chanukah and the State of Israel. The program is in 
 support of the soldiers of Israel Defense Forces.\n5:30pm &mdash\; Concert
  for Young Families\n6:00pm &mdash\; Crafts for Families\n6:30pm &mdash\; 
 Candlelighting and Buffet for Families and Adults\n7:30pm &mdash\; Concert
  for Adults
DTSTART;TZID=America/New_York:20151208T173000
DTEND;TZID=America/New_York:20151208T210000
END:VEVENT
END:VCALENDAR
