BEGIN:VCALENDAR
PRODID:-//eluceo/ical//2.0/EN
VERSION:2.0
CALSCALE:GREGORIAN
BEGIN:VEVENT
UID:721e7c27306b2d0d91e03846c15e35e5
DTSTAMP:20260423T065327Z
SUMMARY:Identifying and Responding to Anti-Semitism
DESCRIPTION:Jewish Federation of West-Central New Jersey\nCommunity Calenda
 r\nhttps://jfedwcnj.org/calendar/identifying-and-responding-to-anti-semiti
 sm-1572275712\n\nLed by Rabbi Moshe Cohn. Rabbi Cohn is an educator and is
  Yad Vashem World Holocaust Remembrance Center's (Jerusalem) head of Inter
 national Seminars and Jewish World Department at the International School 
 for Holocaust Studies. Join us for this important talk and conversation. R
 efreshments served. RSVP requested.
DTSTART;TZID=America/New_York:20191111T190000
DTEND;TZID=America/New_York:20191111T210000
END:VEVENT
END:VCALENDAR
