BEGIN:VCALENDAR
PRODID:-//eluceo/ical//2.0/EN
VERSION:2.0
CALSCALE:GREGORIAN
BEGIN:VEVENT
UID:ad3193a8a27f746b297d11f05768d4c7
DTSTAMP:20260423T050644Z
SUMMARY:IAC National Conference
DESCRIPTION:Jewish Federation of West-Central New Jersey\nCommunity Calenda
 r\nhttps://jfedwcnj.org/calendar/iac-national-conference-1492645560\n\nJoi
 n thousands of community members at the IAC National Conference in Washing
 ton DC to experience influential thought leaders\, industry experts\, seni
 or political figures\, diplomatic figures\, community leaders\, prominent 
 journalists and more. This inspiring three-day journey will explore Israel
 i-American and Jewish identity\, unite the Israeli-American and Jewish com
 munities\, and understand how we can effectively strengthen Israel\, the N
 ation-State of the Jewish People. The IAC National Confere...
DTSTART;TZID=America/New_York:20171103T170000
DTEND;TZID=America/New_York:20171106T120000
END:VEVENT
END:VCALENDAR
