BEGIN:VCALENDAR
PRODID:-//eluceo/ical//2.0/EN
VERSION:2.0
CALSCALE:GREGORIAN
BEGIN:VEVENT
UID:48465a0168c470361da938477199442a
DTSTAMP:20260422T193242Z
SUMMARY:I WANT YOU TO KNOW WE’RE STILL HERE – ESTHER SAFRAN FOER
DESCRIPTION:Jewish Federation of West-Central New Jersey\nCommunity Calenda
 r\nhttps://jfedwcnj.org/calendar/i-want-you-to-know-were-still-here--esthe
 r-safran-foer-1600356830\n\n“A beautiful exploration of collective memor
 y and Jewish history.”—Nathan Englander\n\n“Esther Safran Foer is a 
 force of nature: a leader of the Jewish people\, the matriarch of America
 ’s leading literary family\, an eloquent defender of the proposition tha
 t memory matters. And now\, a riveting memoirist.”—Jeffrey Goldberg\, 
 editor in chief of The Atlantic\n\nEsther Safran Foer grew up in a home wh
 ere the past was too terrible to speak of. The child of parents who were e
 ach the...
DTSTART;TZID=America/New_York:20201022T190000
DTEND;TZID=America/New_York:20201022T210000
END:VEVENT
END:VCALENDAR
