BEGIN:VCALENDAR
PRODID:-//eluceo/ical//2.0/EN
VERSION:2.0
CALSCALE:GREGORIAN
BEGIN:VEVENT
UID:a337d4b04414ae4ccc1d5280a3cd8de8
DTSTAMP:20260422T131653Z
SUMMARY:I am Enough: Helping Teens Feel Good About Themselves and Others
DESCRIPTION:Jewish Federation of West-Central New Jersey\nCommunity Calenda
 r\nhttps://jfedwcnj.org/calendar/i-am-enough-helping-teens-feel-good-about
 -themselves-and-others-1516805745\n\n &ldquo\;I am Enough: Helping Teens F
 eel Good About Themselves and Others&rdquo\; presented by Scott Fried
DTSTART;TZID=America/New_York:20180314T190000
DTEND;TZID=America/New_York:20180314T210000
END:VEVENT
END:VCALENDAR
