BEGIN:VCALENDAR
PRODID:-//eluceo/ical//2.0/EN
VERSION:2.0
CALSCALE:GREGORIAN
BEGIN:VEVENT
UID:90e0b4b6070d6d00c36abdb68378ae3c
DTSTAMP:20260422T010524Z
SUMMARY:How the Nazis Stole My Grandmother’s Cookbook
DESCRIPTION:Jewish Federation of West-Central New Jersey\nCommunity Calenda
 r\nhttps://jfedwcnj.org/calendar/how-the-nazis-stole-my-grandmothers-cookb
 ook-1700147285\n\nAlice Urbach\, a renowned chef and cookbook writer in Vi
 enna\, was forced to flee to England in 1938 after the German occupation o
 f Austria. When she returned to the ruins of Vienna in the late 1940s\, sh
 e discovered that her bestselling cookbook had been Aryanized and publishe
 d under a non-Jewish name. Eighty years later\, Alice’s granddaughter\, 
 historian Karina Urbach\, will discuss her efforts to uncover the truth an
 d to reclaim her grandmother’s work. This virtual talk is free and open 
 to ...
DTSTART;TZID=America/New_York:20231204T130000
DTEND;TZID=America/New_York:20231204T140000
END:VEVENT
END:VCALENDAR
