BEGIN:VCALENDAR
PRODID:-//eluceo/ical//2.0/EN
VERSION:2.0
CALSCALE:GREGORIAN
BEGIN:VEVENT
UID:931983399d1618261e865edcae4d8e8b
DTSTAMP:20260420T114455Z
SUMMARY:How Jewish genes impact the health of your family
DESCRIPTION:Jewish Federation of West-Central New Jersey\nCommunity Calenda
 r\nhttps://jfedwcnj.org/calendar/how-jewish-genes-impact-the-health-of-you
 r-family-1527168517\n\nJewish Penicillin It's Not Just Chicken soup...How 
 Jewish Genes impact the health of your family. Join us at the inaugural ev
 ent of the NEW Maimonides Medical Society with Keynote Speaker Elizabeth C
 olaiocco APN\, BC This event is Free and open to the Community
DTSTART;TZID=America/New_York:20180624T103000
DTEND;TZID=America/New_York:20180624T123000
END:VEVENT
END:VCALENDAR
