BEGIN:VCALENDAR
PRODID:-//eluceo/ical//2.0/EN
VERSION:2.0
CALSCALE:GREGORIAN
BEGIN:VEVENT
UID:b2072a581955607a5538dd65fe4ce1fe
DTSTAMP:20260423T183113Z
SUMMARY:Honor flight: A Documentary
DESCRIPTION:Jewish Federation of West-Central New Jersey\nCommunity Calenda
 r\nhttps://jfedwcnj.org/calendar/honor-flight-a-documentary-1571331843\n\n
 Stein Hospice presents Honor Flight: a Documentary\, featuring curated sto
 ries of veterans and their dream trip to Washington D.C. Lunch will be pro
 vided along with door prizes.
DTSTART;TZID=America/New_York:20191029T120000
DTEND;TZID=America/New_York:20191029T140000
END:VEVENT
END:VCALENDAR
