BEGIN:VCALENDAR
PRODID:-//eluceo/ical//2.0/EN
VERSION:2.0
CALSCALE:GREGORIAN
BEGIN:VEVENT
UID:f9fededede2c0553b89d197a3ec26a81
DTSTAMP:20260423T170402Z
SUMMARY:Honest Aging - An Insider's Guide to the Second Half of Your Life
DESCRIPTION:Jewish Federation of West-Central New Jersey\nCommunity Calenda
 r\nhttps://jfedwcnj.org/calendar/honest-aging---an-insiders-guide-to-the-s
 econd-half-of-your-life-1705573711\n\nWith Rosanne M Leipzig. MD\, PhD FRE
 E to All Dr. Roseanne Leipzig is a top doctor with more than 35 years of e
 xperience caring for older adults. Honest Aging is an indispensable guide 
 to the second half of life\, describing what to expect physically\, psycho
 logically\, functionally and emotionally as you age. With candor\, humor\,
  and empathy\, this book will provide you with the knowledge and practical
  advice to optimize aging. Moderated by Dr. Francesco Labbadia\, Atlantic 
 Health Systemfrancesco la...
DTSTART;TZID=America/New_York:20240207T120000
DTEND;TZID=America/New_York:20240207T133000
END:VEVENT
END:VCALENDAR
