BEGIN:VCALENDAR
PRODID:-//eluceo/ical//2.0/EN
VERSION:2.0
CALSCALE:GREGORIAN
BEGIN:VEVENT
UID:1ac5d1336e0520ed9a117945831a21d0
DTSTAMP:20260421T045309Z
SUMMARY:Honest Aging
DESCRIPTION:Jewish Federation of West-Central New Jersey\nCommunity Calenda
 r\nhttps://jfedwcnj.org/calendar/honest-aging\n\nHonest Aging - An Insider
 's Guide to the Second Half of your Life. Rosanne M. Leipzig\, MD\, PHD\n\
 n \n\nRegister at ssbjcc.org or call 908-443-9018\n\n 
DTSTART;TZID=America/New_York:20231101T120000
DTEND;TZID=America/New_York:20231101T130000
END:VEVENT
END:VCALENDAR
