BEGIN:VCALENDAR
PRODID:-//eluceo/ical//2.0/EN
VERSION:2.0
CALSCALE:GREGORIAN
BEGIN:VEVENT
UID:899fadafca339063f4078aeaee902705
DTSTAMP:20260422T011814Z
SUMMARY:Community-Wide Holocaust Remembrance Day
DESCRIPTION:Jewish Federation of West-Central New Jersey\nCommunity Calenda
 r\nhttps://jfedwcnj.org/calendar/holocaust-remembrance-day\n\nThursday\, J
 anuary 27th\, 7 pm - 8 pm Community-Wide Holocaust Remembrance Day Commem
 oration. Honoring Our Survivors\; Tova Friedman and Maud Dahme with The J
 ewish Federation of Somerset\, Hunterdon\, and Warren Counties\, Shimon an
 d Sara Birnbaum-JCC\, The JCC Holocaust Memorial\, and Education Center\, 
 and JEWISH LIFE. Join us for this special Online event as we honor Tova F
 riedman and Maud Dahme for their dedication and tireless efforts to furthe
 r Holocaust Education. \n\nRegister here:  http...
DTSTART;TZID=America/New_York:20220127T190000
DTEND;TZID=America/New_York:20220127T200000
END:VEVENT
END:VCALENDAR
