BEGIN:VCALENDAR
PRODID:-//eluceo/ical//2.0/EN
VERSION:2.0
CALSCALE:GREGORIAN
BEGIN:VEVENT
UID:31650c0dc26b34ef6bd5d1c14e4ffd17
DTSTAMP:20260423T233555Z
SUMMARY:Holiday Shopping Boutique
DESCRIPTION:Jewish Federation of West-Central New Jersey\nCommunity Calenda
 r\nhttps://jfedwcnj.org/calendar/holiday-shopping-boutique-1477940428\n\nF
 ree Admission!\nShop for the holidays&hellip\; Shop for yourself!\nFeaturi
 ng 45 Vendors Selling: \n&bull\;Accessories\n&bull\;Unique Crafts\n&bull\;
 Clothing\n&bull\;Handbags\n&bull\;Makeup &amp\; Skincare\n&bull\;Local Hon
 ey Oils\n&bull\;Food and More!\n
DTSTART;TZID=America/New_York:20161106T110000
DTEND;TZID=America/New_York:20161106T160000
END:VEVENT
END:VCALENDAR
