BEGIN:VCALENDAR
PRODID:-//eluceo/ical//2.0/EN
VERSION:2.0
CALSCALE:GREGORIAN
BEGIN:VEVENT
UID:60cca050b5c977d51bee9e4c5bcda8ed
DTSTAMP:20260422T043537Z
SUMMARY:Holiday Shopping Boutique
DESCRIPTION:Jewish Federation of West-Central New Jersey\nCommunity Calenda
 r\nhttps://jfedwcnj.org/calendar/holiday-shopping-boutique-1444223773\n\nH
 oliday Shopping Boutique.  Come shop for the holidays or shop for yourself
 .  Jewelry\, accessories\, personalized gifts\, clothing and much more!  F
 ree to the Community.\nVendors space still available!
DTSTART;TZID=America/New_York:20151022T110000
DTEND;TZID=America/New_York:20151022T170000
END:VEVENT
END:VCALENDAR
