BEGIN:VCALENDAR
PRODID:-//eluceo/ical//2.0/EN
VERSION:2.0
CALSCALE:GREGORIAN
BEGIN:VEVENT
UID:603ebc367fa9f68038e0dd7f1431a7fb
DTSTAMP:20260422T131906Z
SUMMARY:Holiday Boutique
DESCRIPTION:Jewish Federation of West-Central New Jersey\nCommunity Calenda
 r\nhttps://jfedwcnj.org/calendar/holiday-boutique-1635268768\n\nKnit Blank
 ets\, Dog Bandanas and Dog Biscuits\, Handbags and Home-Made Jewelry\, Arb
 onne\, One of a kind custom clothing\, Soy Candles\, Beauty counter\, Hot 
 Cocoa Bombs\, Cutco Cutlery\, Hand Crafted Art\, Baby Clothing\, Beeswax h
 and and body salves\, Doll Clothing\, Norwex\, Touchstone Jewelry\, Handma
 de acrylic Pour painting and art\, Gift wear. And much more to come!\nDETA
 ILS:\n&bull\;Date:\n&bull\;November 11\, 2021\n&bull\;Time:\n&bull\;3:00 P
 M - 7:00 PM\n&bull\;Thursday\n&bull\;FREE\nFree Admission.  Enter to Win G
 ift...
DTSTART;TZID=America/New_York:20211111T150000
DTEND;TZID=America/New_York:20211111T190000
END:VEVENT
END:VCALENDAR
