BEGIN:VCALENDAR
PRODID:-//eluceo/ical//2.0/EN
VERSION:2.0
CALSCALE:GREGORIAN
BEGIN:VEVENT
UID:65e557b71834796b16e8682e728036cf
DTSTAMP:20260423T113953Z
SUMMARY:Holiday Boutique
DESCRIPTION:Jewish Federation of West-Central New Jersey\nCommunity Calenda
 r\nhttps://jfedwcnj.org/calendar/holiday-boutique-1446394822\n\nThe Sister
 hood of Temple B’nai Shalom will be hosting its 3rd Annual Holiday Bouti
 que on Sunday\, November 15\, 2015 from 9:00am to 3:00pm. Admission is fre
 e. A variety of vendors will be participating\, and items will include fas
 hion jewelry\, handbags\, cosmetics\, skin care products\, clothing\, food
  & kitchen products\, candles\, stationery\, home décor\, dog treats\, ba
 lloons\, party accessories and much more. Shoppers will also have the oppo
 rtunity to participate in a 50/50 raffle and Tricky Tray....
DTSTART;TZID=America/New_York:20151115T090000
DTEND;TZID=America/New_York:20151115T150000
END:VEVENT
END:VCALENDAR
