BEGIN:VCALENDAR
PRODID:-//eluceo/ical//2.0/EN
VERSION:2.0
CALSCALE:GREGORIAN
BEGIN:VEVENT
UID:9c9b6aed19e539077f8b40614f666f9b
DTSTAMP:20260421T164839Z
SUMMARY:High School Learning Through Experience Program
DESCRIPTION:Jewish Federation of West-Central New Jersey\nCommunity Calenda
 r\nhttps://jfedwcnj.org/calendar/high-school-learning-through-experience-p
 rogram-1536242653\n\nThe Institute for Holocaust and Genocide Studies High
  School Learning Through Experience Program Theme: "Whoever Saves A Life S
 aves The World" Three Key Note Presentations  Daniel Trust\, Genocide Surv
 ivor from Rwanda  Margit Feldman\, Holocaust Survivor from Hungary  Carl W
 ilkens\, Humanitarian Aid Worker who helped hundreds of Rwandan Survivors
DTSTART;TZID=America/New_York:20181016T090000
DTEND;TZID=America/New_York:20181016T123000
END:VEVENT
END:VCALENDAR
