BEGIN:VCALENDAR
PRODID:-//eluceo/ical//2.0/EN
VERSION:2.0
CALSCALE:GREGORIAN
BEGIN:VEVENT
UID:1590537f74a36991ed82ff71566339be
DTSTAMP:20260423T221552Z
SUMMARY:High School Learning Through Experience Program
DESCRIPTION:Jewish Federation of West-Central New Jersey\nCommunity Calenda
 r\nhttps://jfedwcnj.org/calendar/high-school-learning-through-experience-p
 rogram-1443815243\n\nBow Aweng fled his country of Souther Sudan in 1987\,
  along with 35\,000 other Lost Boys. While in a refugee camp in Kenya\, Bo
 l developed his art skills. Using materials available in the camp\, he cre
 ated painting that tell the story of the &quot\;Lost Boys\,&quot\; which h
 e calls the &quot\;The Journey of Hope.&quot\; &quot\;Painting the obstacl
 es that we faced is very difficult\, but I think of it as an opportunity t
 o reflect on God&#039\;s provision to us during that time.&quot\; Bol grad
 uated from The Ohio State University in 2009\,...
DTSTART;TZID=America/New_York:20151026T090000
DTEND;TZID=America/New_York:20151026T120000
END:VEVENT
END:VCALENDAR
