BEGIN:VCALENDAR
PRODID:-//eluceo/ical//2.0/EN
VERSION:2.0
CALSCALE:GREGORIAN
BEGIN:VEVENT
UID:5b6d4ad536b57632a6a38c8bf4c03fa6
DTSTAMP:20260423T142750Z
SUMMARY:The High School Learning Through Experience Program
DESCRIPTION:Jewish Federation of West-Central New Jersey\nCommunity Calenda
 r\nhttps://jfedwcnj.org/calendar/high-school-holocaust-program\n\nThe Inst
 itute for Holocaust and Genocide Studies\n\nThe High School Learning Throu
 gh Experience Program\n\nTheme: Genocide: Genocide Prevention through Educ
 ation\n\nThursday\, November 3\, 2016   9:00 am to 12:30 pm      
       \n\nTheatre at RVCC\n\nThree Keynote Presentations\n\nMargit Fe
 ldman\, Holocaust Survivor from Hungary \nAuthor of: Margit\, A teenager'
 s journey through the Holocaust and beyond\nScreening of Documentary: Marg
 it- Not A23029\n\n-----​\n\nIlluminations- Beyon...
DTSTART;TZID=America/New_York:20161103T090000
DTEND;TZID=America/New_York:20161103T123000
END:VEVENT
END:VCALENDAR
