BEGIN:VCALENDAR
PRODID:-//eluceo/ical//2.0/EN
VERSION:2.0
CALSCALE:GREGORIAN
BEGIN:VEVENT
UID:c7867527a8b324bd0760bdf506734ae4
DTSTAMP:20260422T155052Z
SUMMARY:Healthy Drinks Fest
DESCRIPTION:Jewish Federation of West-Central New Jersey\nCommunity Calenda
 r\nhttps://jfedwcnj.org/calendar/healthy-drinks-fest-1673966821\n\nOr Chad
 ash Sisterhood is meeting to enjoy a sample of healthy drinks from Basil B
 andwagon. Open to the public.
DTSTART;TZID=America/New_York:20230205T110000
DTEND;TZID=America/New_York:20230205T120000
END:VEVENT
END:VCALENDAR
