BEGIN:VCALENDAR
PRODID:-//eluceo/ical//2.0/EN
VERSION:2.0
CALSCALE:GREGORIAN
BEGIN:VEVENT
UID:ed04bc69e95978dd8d680b40a15dac55
DTSTAMP:20260422T163833Z
SUMMARY:Health\, Vaccines & Testing: A Community Conversation about COVID19
DESCRIPTION:Jewish Federation of West-Central New Jersey\nCommunity Calenda
 r\nhttps://jfedwcnj.org/calendar/health-vaccines-testing-a-community-conve
 rsation-about-covid19\n\nHealth\, Vaccines & Testing: A Community Conversa
 tion about COVID19 with Dr. Boguslavsky\n\n \n\nExperienced & Dedicated 
 Family Physician Founder of Premier MD & Medical Acupuncture\n\nSunday Jau
 ary 31\, 2021 11AM-12PM\n\nVia Zoom \n\nRegister at jfedshaw.org/maimonid
 es \n\nHosted by Maimonides Society ChairsDr. Judith Hersh & Dr. Eric Yor
 ke\n\n \n\n \n\nQuestions please e-mail Ledelman@jfedshaw.org or call La
 uren at 908-758-2003. 
DTSTART;TZID=America/New_York:20210131T110000
DTEND;TZID=America/New_York:20210131T120000
END:VEVENT
END:VCALENDAR
