BEGIN:VCALENDAR
PRODID:-//eluceo/ical//2.0/EN
VERSION:2.0
CALSCALE:GREGORIAN
BEGIN:VEVENT
UID:5351792ba56071376823ff6d6db74887
DTSTAMP:20260422T233911Z
SUMMARY:Health Resource Fair
DESCRIPTION:Jewish Federation of West-Central New Jersey\nCommunity Calenda
 r\nhttps://jfedwcnj.org/calendar/health-resource-fair\n\nJoin us for a Hea
 lth Resource Fair \n\nThe Bristal\, Jewish Federation of Somerset\, Hunte
 rdon\, &\nWarren Counties\, Jewish Family Service\, and Shimon and\nSara B
 irnbaum Jewish Community Center are hosting a\nHealth and Resource Fair!\n
 \nFree of charge and open to all caregivers\nand people 50 years and bette
 r.\n\n\nDrop by for complimentary health screenings\,\nlight refreshments\
 , health and wellness resources\,\nbenefits information\, raffles\, giveaw
 ays and more!\n\nRSVP by Wednesday\, September ...
DTSTART;TZID=America/New_York:20220922T140000
DTEND;TZID=America/New_York:20220922T160000
END:VEVENT
END:VCALENDAR
