BEGIN:VCALENDAR
PRODID:-//eluceo/ical//2.0/EN
VERSION:2.0
CALSCALE:GREGORIAN
BEGIN:VEVENT
UID:13d8cc4a8e38cb84a9a84e393f8aff68
DTSTAMP:20260422T211124Z
SUMMARY:Havdalah in Pajamas
DESCRIPTION:Jewish Federation of West-Central New Jersey\nCommunity Calenda
 r\nhttps://jfedwcnj.org/calendar/havdalah-in-pajamas-1510774743\n\nFree Ev
 ent!  Open to the entire community\, you don&#039\;t need to be a member o
 f Temple Sholom. 
DTSTART;TZID=America/New_York:20171209T170000
DTEND;TZID=America/New_York:20171209T190000
END:VEVENT
END:VCALENDAR
